BEGIN:VCALENDAR
VERSION:2.0
PRODID:SchoolNow
CALSCALE:GREGORIAN
BEGIN:VEVENT
UID:4a87ba06-3f86-11f1-90a7-0a58a9feac02
DTSTAMP:20260424T023543Z
SUMMARY:Summer 2027 Final Exams (Extended Summer\, Full Term\, Summer II)
URL;VALUE=URI:https://www.ladelta.edu/academics/calendar/9014697/summer-202
 7-final-exams-extended-summer-full-term-summer-ii
DTSTART;VALUE=DATE:20270729
DTEND;VALUE=DATE:20270730
END:VEVENT
END:VCALENDAR
