BEGIN:VCALENDAR
VERSION:2.0
PRODID:SchoolNow
CALSCALE:GREGORIAN
BEGIN:VEVENT
UID:71ca586c-3f86-11f1-9ebd-0a58a9feac02
DTSTAMP:20260424T023649Z
SUMMARY:Degree Award Date
URL;VALUE=URI:https://www.ladelta.edu/academics/calendar/9014698/degree-awa
 rd-date
DTSTART;VALUE=DATE:20270806
DTEND;VALUE=DATE:20270807
END:VEVENT
END:VCALENDAR
