BEGIN:VCALENDAR
VERSION:2.0
PRODID:SchoolNow
CALSCALE:GREGORIAN
BEGIN:VEVENT
UID:99ebc204-3f86-11f1-ab28-0e91c1895723
DTSTAMP:20260424T023756Z
SUMMARY:Memorial Day (Campus Closure)
URL;VALUE=URI:https://www.ladelta.edu/academics/calendar/9014699/memorial-d
 ay-campus-closure
DTSTART;VALUE=DATE:20270531
DTEND;VALUE=DATE:20270601
END:VEVENT
END:VCALENDAR
