BEGIN:VCALENDAR
VERSION:2.0
PRODID:SchoolNow
CALSCALE:GREGORIAN
BEGIN:VEVENT
UID:e4773e48-3f86-11f1-8201-02db5620d689
DTSTAMP:20260424T024001Z
SUMMARY:Juneteenth (Observed\; Campus Closure)
URL;VALUE=URI:https://www.ladelta.edu/academics/calendar/9014700/juneteenth
 -observed-campus-closure
DTSTART;VALUE=DATE:20270618
DTEND;VALUE=DATE:20270619
END:VEVENT
END:VCALENDAR
