BEGIN:VCALENDAR
VERSION:2.0
PRODID:SchoolNow
CALSCALE:GREGORIAN
BEGIN:VEVENT
UID:07b08ff4-3f87-11f1-b510-0e932a0c6f13
DTSTAMP:20260424T024100Z
SUMMARY:Independence Day (Observed\; Campus Closure)
URL;VALUE=URI:https://www.ladelta.edu/academics/calendar/9014701/independen
 ce-day-observed-campus-closure
DTSTART;VALUE=DATE:20270702
DTEND;VALUE=DATE:20270703
END:VEVENT
END:VCALENDAR
