BEGIN:VCALENDAR
VERSION:2.0
PRODID:SchoolNow
CALSCALE:GREGORIAN
BEGIN:VEVENT
UID:39643da2-3f9b-11f1-9858-0a58a9feac02
DTSTAMP:20260424T050534Z
SUMMARY:LDCC Day
URL;VALUE=URI:https://www.ladelta.edu/academics/calendar/9015184/ldcc-day
DTSTART;VALUE=DATE:20270223
DTEND;VALUE=DATE:20270225
END:VEVENT
END:VCALENDAR
