BEGIN:VCALENDAR
VERSION:2.0
PRODID:SchoolNow
CALSCALE:GREGORIAN
BEGIN:VEVENT
UID:bb436c9e-3fe6-11f1-8249-0a58a9feac02
DTSTAMP:20260424T140604Z
SUMMARY:Spring 2027 Faculty Development
URL;VALUE=URI:https://www.ladelta.edu/academics/calendar/9016374/spring-202
 7-faculty-development
DTSTART;VALUE=DATE:20270511
DTEND;VALUE=DATE:20270518
END:VEVENT
END:VCALENDAR
