BEGIN:VCALENDAR
VERSION:2.0
PRODID:SchoolNow
CALSCALE:GREGORIAN
BEGIN:VEVENT
UID:54031a9c-3fe7-11f1-bb0b-0e9d689743b1
DTSTAMP:20260424T141020Z
SUMMARY:Final Grades Due by 12 PM (Full Term & 2nd Half Term)
URL;VALUE=URI:https://www.ladelta.edu/academics/calendar/9016384/final-grad
 es-due-by-12-pm-full-term-2nd-half-term
DTSTART;VALUE=DATE:20270510
DTEND;VALUE=DATE:20270511
END:VEVENT
END:VCALENDAR
