BEGIN:VCALENDAR
VERSION:2.0
PRODID:SchoolNow
CALSCALE:GREGORIAN
BEGIN:VEVENT
UID:a14aa742-c4b9-11f0-8753-0229348720a9
DTSTAMP:20251118T200320Z
SUMMARY:Spring 2026 Registration Deadline
URL;VALUE=URI:https://www.ladelta.edu/academics/school-of-liberal-arts/cale
 ndar/8802495/spring-2026-registration-deadline
DTSTART:20260107T060000Z
DTEND:20260108T055500Z
END:VEVENT
END:VCALENDAR
