BEGIN:VCALENDAR
VERSION:2.0
PRODID:SchoolNow
CALSCALE:GREGORIAN
BEGIN:VEVENT
UID:b44960cc-c4b9-11f0-8b26-0a58a9feac02
DTSTAMP:20251118T200352Z
SUMMARY:Late Registration Spring 2026 Deadline
URL;VALUE=URI:https://www.ladelta.edu/academics/school-of-liberal-arts/cale
 ndar/8802496/late-registration-spring-2026-deadline
DTSTART:20260115T060000Z
DTEND:20260116T055500Z
END:VEVENT
END:VCALENDAR
