BEGIN:VCALENDAR
VERSION:2.0
PRODID:SchoolNow
CALSCALE:GREGORIAN
BEGIN:VEVENT
UID:bd73bc54-afff-11ee-ae16-0a58a9feac02
DTSTAMP:20240618T200506Z
SUMMARY:Applications open.
URL;VALUE=URI:https://www.ladelta.edu/academics/school-of-nursing-and-allie
 d-health/medical-lab-technician/calendar/5136275/applications-open
DTSTART:20240217T065500Z
DTEND:20240618T045500Z
END:VEVENT
END:VCALENDAR
