BEGIN:VCALENDAR
VERSION:2.0
PRODID:SchoolNow
CALSCALE:GREGORIAN
BEGIN:VEVENT
UID:5986ae18-2dae-11ef-8e62-0a58a9feac02
DTSTAMP:20240618T200712Z
SUMMARY:Orientation for Fall 2024 Enrolled MLT Students
URL;VALUE=URI:https://www.ladelta.edu/academics/school-of-nursing-and-allie
 d-health/medical-lab-technician/calendar/6140170/orientation-for-fall-2024
 -enrolled-mlt-students
DTSTART;VALUE=DATE:20240726
DTEND;VALUE=DATE:20240727
END:VEVENT
END:VCALENDAR
