BEGIN:VCALENDAR
VERSION:2.0
PRODID:SchoolNow
CALSCALE:GREGORIAN
BEGIN:VEVENT
UID:74d2a60e-2dae-11ef-bacb-0ee4af65b7c3
DTSTAMP:20240618T200757Z
SUMMARY:Applications Open for Fall 2025 Cohort
URL;VALUE=URI:https://www.ladelta.edu/academics/school-of-nursing-and-allie
 d-health/medical-lab-technician/calendar/6140171/applications-open-for-fal
 l-2025-cohort
DTSTART:20250301T060000Z
DTEND:20250602T045500Z
END:VEVENT
END:VCALENDAR
