BEGIN:VCALENDAR
VERSION:2.0
PRODID:SchoolNow
CALSCALE:GREGORIAN
BEGIN:VEVENT
UID:4e6ebfda-3fb3-11f0-9fd4-0a58a9feac02
DTSTAMP:20250602T131259Z
SUMMARY:Applications Open for Fall 2026 Cohort
URL;VALUE=URI:https://www.ladelta.edu/academics/school-of-nursing-and-allie
 d-health/medical-lab-technician/calendar/8239815/applications-open-for-fal
 l-2025-cohort-clone
DTSTART:20260301T060000Z
DTEND:20260602T045500Z
END:VEVENT
END:VCALENDAR
