BEGIN:VCALENDAR
VERSION:2.0
PRODID:SchoolNow
CALSCALE:GREGORIAN
BEGIN:VEVENT
UID:b1326216-7c1d-11ef-98e9-02026055f355
DTSTAMP:20240926T154044Z
SUMMARY:Fall Commencement Ceremony 2024
URL;VALUE=URI:https://www.ladelta.edu/academics/student-resources/graduatio
 n/calendar/6694828/fall-commencement-ceremony-2024
DTSTART:20241215T230000Z
DTEND:20241216T010000Z
END:VEVENT
END:VCALENDAR
