BEGIN:VCALENDAR
VERSION:2.0
PRODID:SchoolNow
CALSCALE:GREGORIAN
BEGIN:VEVENT
UID:4cc401fe-b273-11ef-9de5-0affc42970ed
DTSTAMP:20241204T190935Z
SUMMARY:Fall 2024 Commencement Ceremony REHEARSAL
URL;VALUE=URI:https://www.ladelta.edu/academics/student-resources/graduatio
 n/calendar/7120814/fall-2024-commencement-ceremony-rehearsal
DTSTART:20241215T210000Z
DTEND:20241215T220000Z
END:VEVENT
END:VCALENDAR
