BEGIN:VCALENDAR
VERSION:2.0
PRODID:SchoolNow
CALSCALE:GREGORIAN
BEGIN:VEVENT
UID:30cda3b4-f928-11ef-ac7f-0a58a9feac02
DTSTAMP:20250304T184048Z
SUMMARY:Spring 2025 Commencement Ceremony
URL;VALUE=URI:https://www.ladelta.edu/academics/student-resources/graduatio
 n/calendar/7600649/spring-2025-commencement-ceremony
DTSTART:20250519T230000Z
DTEND:20250520T003000Z
END:VEVENT
END:VCALENDAR
