BEGIN:VCALENDAR
VERSION:2.0
PRODID:SchoolNow
CALSCALE:GREGORIAN
BEGIN:VEVENT
UID:eeee96b8-a52c-11f0-96af-0a58a9feac02
DTSTAMP:20251009T162805Z
SUMMARY:Fall 2025 Commencement Ceremony
URL;VALUE=URI:https://www.ladelta.edu/academics/student-resources/graduatio
 n/calendar/8708987/fall-2025-commencement-ceremony
DTSTART:20251216T000000Z
DTEND:20251216T020000Z
END:VEVENT
END:VCALENDAR
