BEGIN:VCALENDAR
VERSION:2.0
PRODID:SchoolNow
CALSCALE:GREGORIAN
BEGIN:VEVENT
UID:e9e79a18-d1ef-11ef-a899-0affcdd4e97d
DTSTAMP:20250113T205119Z
SUMMARY:LDCC Welding Challenge
URL;VALUE=URI:https://www.ladelta.edu/academics/student-resources/skillsusa
 /calendar/7309690/ldcc-welding-challenge
DTSTART:20250128T150000Z
DTEND:20250128T220000Z
END:VEVENT
END:VCALENDAR
