BEGIN:VCALENDAR
VERSION:2.0
PRODID:SchoolNow
CALSCALE:GREGORIAN
BEGIN:VEVENT
UID:a771ec42-81c1-11f0-990e-0affe844e53d
DTSTAMP:20250905T133908Z
SUMMARY:LDCC Monroe Career and Community Resource Fair
URL;VALUE=URI:https://www.ladelta.edu/admissions/student-success-services/c
 areer-services/calendar/8541034/ldcc-monroe-career-fair
DTSTART:20251008T150000Z
DTEND:20251008T163000Z
END:VEVENT
END:VCALENDAR
