BEGIN:VCALENDAR
VERSION:2.0
PRODID:SchoolNow
CALSCALE:GREGORIAN
BEGIN:VEVENT
UID:cb0a3e5c-81c1-11f0-8a5e-0a58a9feac02
DTSTAMP:20250905T133903Z
SUMMARY:LDCC Ruston Career and Community Resource Fair
URL;VALUE=URI:https://www.ladelta.edu/admissions/student-success-services/c
 areer-services/calendar/8541035/ldcc-ruston-career-fair
DTSTART:20251103T160000Z
DTEND:20251103T173000Z
END:VEVENT
END:VCALENDAR
