BEGIN:VCALENDAR
VERSION:2.0
PRODID:SchoolNow
CALSCALE:GREGORIAN
BEGIN:VEVENT
UID:db02ce32-81c1-11f0-9092-0e5d3462789d
DTSTAMP:20250905T134332Z
SUMMARY:LDCC Jonesboro Career and Community Resource Fair
URL;VALUE=URI:https://www.ladelta.edu/admissions/student-success-services/c
 areer-services/calendar/8541036/ldcc-jonesboro-career-fair
DTSTART:20250825T150000Z
DTEND:20250825T163000Z
END:VEVENT
END:VCALENDAR
