BEGIN:VCALENDAR
VERSION:2.0
PRODID:SchoolNow
CALSCALE:GREGORIAN
BEGIN:VEVENT
UID:f2a7ee28-81c1-11f0-9281-0a58a9feac02
DTSTAMP:20250905T133926Z
SUMMARY:LDCC Winnsboro Career and Community Resource Fair
URL;VALUE=URI:https://www.ladelta.edu/admissions/student-success-services/c
 areer-services/calendar/8541037/ldcc-winnsboro-career-fair
DTSTART:20251105T160000Z
DTEND:20251105T173000Z
END:VEVENT
END:VCALENDAR
