BEGIN:VCALENDAR
VERSION:2.0
PRODID:SchoolNow
CALSCALE:GREGORIAN
BEGIN:VEVENT
UID:11a2ceba-81c2-11f0-9d46-0affc1bf85c7
DTSTAMP:20250905T134318Z
SUMMARY:LDCC Lake Providence Career and Community Resource Fair
URL;VALUE=URI:https://www.ladelta.edu/admissions/student-success-services/c
 areer-services/calendar/8541038/ldcc-lake-providence-career-fair
DTSTART:20251119T160000Z
DTEND:20251119T173000Z
END:VEVENT
END:VCALENDAR
