BEGIN:VCALENDAR
VERSION:2.0
PRODID:SchoolNow
CALSCALE:GREGORIAN
BEGIN:VEVENT
UID:26fe41ae-81c2-11f0-8004-0e8b14fcf377
DTSTAMP:20250905T134237Z
SUMMARY:LDCC Tallulah Career and Community Resource Fair
URL;VALUE=URI:https://www.ladelta.edu/admissions/student-success-services/c
 areer-services/calendar/8541039/ldcc-tallulah-career-fair
DTSTART:20251112T160000Z
DTEND:20251112T173000Z
END:VEVENT
END:VCALENDAR
