BEGIN:VCALENDAR
VERSION:2.0
PRODID:SchoolNow
CALSCALE:GREGORIAN
BEGIN:VEVENT
UID:62bbc7ec-22fe-11f1-b3b2-0a58a9feac02
DTSTAMP:20260318T191219Z
SUMMARY:Career Fair: LDCC Tallulah
URL;VALUE=URI:https://www.ladelta.edu/admissions/student-success-services/c
 areer-services/calendar/8928218/career-fair-ldcc-tallulah
DTSTART:20260327T180000Z
DTEND:20260327T190000Z
END:VEVENT
END:VCALENDAR
