BEGIN:VCALENDAR
VERSION:2.0
PRODID:SchoolNow
CALSCALE:GREGORIAN
BEGIN:VEVENT
UID:86414b12-ec6c-11ee-9791-0200f529c6df
DTSTAMP:20240423T135041Z
SUMMARY:Spring 2024 Adult Education Commencement Ceremony
URL;VALUE=URI:https://www.ladelta.edu/adult-ed/calendar/5646025/spring-2024
 -adult-education-commencement-ceremony
DTSTART:20240513T160000Z
DTEND:20240513T170000Z
END:VEVENT
END:VCALENDAR
