BEGIN:VCALENDAR
VERSION:2.0
PRODID:SchoolNow
CALSCALE:GREGORIAN
BEGIN:VEVENT
UID:84f8f542-7a75-11ef-8204-0affdc60cb4f
DTSTAMP:20240924T130423Z
SUMMARY:Fall 2024 Adult Education Commencement Ceremony
URL;VALUE=URI:https://www.ladelta.edu/adult-ed/calendar/6678964/fall-2024-a
 dult-education-commencement-ceremony
DTSTART:20241215T190000Z
DTEND:20241215T210000Z
END:VEVENT
END:VCALENDAR
