BEGIN:VCALENDAR
VERSION:2.0
PRODID:SchoolNow
CALSCALE:GREGORIAN
BEGIN:VEVENT
UID:e3a166d6-0b0e-11f0-93a0-0a58a9feac02
DTSTAMP:20250327T132502Z
SUMMARY:Spring 2025 Adult Education Graduation Ceremony
URL;VALUE=URI:https://www.ladelta.edu/adult-ed/calendar/7785633/spring-2025
 -adult-education-graduation-ceremony
DTSTART:20250519T160000Z
DTEND:20250519T170000Z
END:VEVENT
END:VCALENDAR
