BEGIN:VCALENDAR
VERSION:2.0
PRODID:SchoolNow
CALSCALE:GREGORIAN
BEGIN:VEVENT
UID:2d5b8ee0-492d-11ea-999f-12de3247b48d
DTSTAMP:20200206T220817Z
SUMMARY:New Years Day Holiday.  All campuses closed.
URL;VALUE=URI:https://www.ladelta.edu/calendar/2197000/new-years-day-holida
 y-all-campuses-closed
DTSTART;VALUE=DATE:20210101
DTEND;VALUE=DATE:20210102
END:VEVENT
END:VCALENDAR
