BEGIN:VCALENDAR
VERSION:2.0
PRODID:SchoolNow
CALSCALE:GREGORIAN
BEGIN:VEVENT
UID:37737320-492d-11ea-a208-12de3247b48d
DTSTAMP:20200206T220834Z
SUMMARY:All Campuses Open After Christmas/New Year Holiday.
URL;VALUE=URI:https://www.ladelta.edu/calendar/2197001/all-campuses-open-af
 ter-christmas-new-year-holiday
DTSTART;VALUE=DATE:20210104
DTEND;VALUE=DATE:20210105
END:VEVENT
END:VCALENDAR
