BEGIN:VCALENDAR
VERSION:2.0
PRODID:SchoolNow
CALSCALE:GREGORIAN
BEGIN:VEVENT
UID:40704fe8-1213-11eb-ac3b-12b39c7e9adb
DTSTAMP:20201208T173702Z
SUMMARY:2020 Winter - Final date to withdraw from a Winter Term class with 
 a grade of 'W' at midnight.
URL;VALUE=URI:https://www.ladelta.edu/calendar/2473824/2019-winter-final-da
 te-to-withdraw-from-a-winter-term-class-with-a-grade-of-w-at-midnight
DTSTART;VALUE=DATE:20210104
DTEND;VALUE=DATE:20210105
END:VEVENT
END:VCALENDAR
