BEGIN:VCALENDAR
VERSION:2.0
PRODID:SchoolNow
CALSCALE:GREGORIAN
BEGIN:VEVENT
UID:bcd556c2-1214-11eb-8b29-128f750395ef
DTSTAMP:20201019T140944Z
SUMMARY:2021 Spring Semester Classes Begin.
URL;VALUE=URI:https://www.ladelta.edu/calendar/2473825/2021-spring-semester
 -classes-begin
DTSTART;VALUE=DATE:20210111
DTEND;VALUE=DATE:20210112
END:VEVENT
END:VCALENDAR
