BEGIN:VCALENDAR
VERSION:2.0
PRODID:SchoolNow
CALSCALE:GREGORIAN
BEGIN:VEVENT
UID:cebaeb36-1214-11eb-8e11-128f750395ef
DTSTAMP:20201208T173646Z
SUMMARY:2020 Winter Term Finals-Last Day of Winter Term Classes.
URL;VALUE=URI:https://www.ladelta.edu/calendar/2473826/2019-winter-term-fin
 als-last-day-of-winter-term-classes
DTSTART;VALUE=DATE:20210107
DTEND;VALUE=DATE:20210108
END:VEVENT
END:VCALENDAR
