BEGIN:VCALENDAR
VERSION:2.0
PRODID:SchoolNow
CALSCALE:GREGORIAN
BEGIN:VEVENT
UID:da76fdde-1214-11eb-b813-128f750395ef
DTSTAMP:20201208T173737Z
SUMMARY:2020 Winter Term grades due by noon.
URL;VALUE=URI:https://www.ladelta.edu/calendar/2473827/2019-winter-term-gra
 des-due-by-noon
DTSTART;VALUE=DATE:20210108
DTEND;VALUE=DATE:20210109
END:VEVENT
END:VCALENDAR
