BEGIN:VCALENDAR
VERSION:2.0
PRODID:SchoolNow
CALSCALE:GREGORIAN
BEGIN:VEVENT
UID:f9c2dfc8-1214-11eb-b74b-128f750395ef
DTSTAMP:20210112T221648Z
SUMMARY:2021 Spring Semester - Final date to add a first half-semester clas
 s at 11:59 p.m.
URL;VALUE=URI:https://www.ladelta.edu/calendar/2473828/2021-spring-semester
 -final-date-to-add-a-first-half-semester-class-at-midnight
DTSTART;VALUE=DATE:20210113
DTEND;VALUE=DATE:20210114
END:VEVENT
END:VCALENDAR
