BEGIN:VCALENDAR
VERSION:2.0
PRODID:SchoolNow
CALSCALE:GREGORIAN
BEGIN:VEVENT
UID:8aa02168-1215-11eb-bce6-128f750395ef
DTSTAMP:20201019T141529Z
SUMMARY:2021 Spring - 100% tuition refund for 1st 8-week courses only
URL;VALUE=URI:https://www.ladelta.edu/calendar/2473829/2021-spring-100-tuit
 ion-refund-for-1st-8-week-courses-only
DTSTART:20210111T151300Z
DTEND:20210112T161300Z
END:VEVENT
END:VCALENDAR
