BEGIN:VCALENDAR
VERSION:2.0
PRODID:SchoolNow
CALSCALE:GREGORIAN
BEGIN:VEVENT
UID:ce6471b0-1215-11eb-b930-120a164b75e5
DTSTAMP:20210112T221701Z
SUMMARY:2021 Spring Semester - Final date to add a full semester class at 1
 1:59 p.m.
URL;VALUE=URI:https://www.ladelta.edu/calendar/2473830/2021-spring-semester
 -final-date-to-add-a-full-semester-class-at-midnight
DTSTART;VALUE=DATE:20210115
DTEND;VALUE=DATE:20210116
END:VEVENT
END:VCALENDAR
