BEGIN:VCALENDAR
VERSION:2.0
PRODID:SchoolNow
CALSCALE:GREGORIAN
BEGIN:VEVENT
UID:0f35ebf0-1217-11eb-8173-0a30c2ef3beb
DTSTAMP:20210112T213941Z
SUMMARY:2021 Spring- 100% tuition refund for Full-semester dropped courses
URL;VALUE=URI:https://www.ladelta.edu/calendar/2473832/2021-spring-100-tuit
 ion-refund-for-full-semester-dropped-courses
DTSTART;VALUE=DATE:20210112
DTEND;VALUE=DATE:20210119
END:VEVENT
END:VCALENDAR
