BEGIN:VCALENDAR
VERSION:2.0
PRODID:SchoolNow
CALSCALE:GREGORIAN
BEGIN:VEVENT
UID:227fe440-1217-11eb-a175-0a30c2ef3beb
DTSTAMP:20210112T213823Z
SUMMARY:2021 Spring - 50% tuition refund for Full-semester dropped courses
URL;VALUE=URI:https://www.ladelta.edu/calendar/2473833/2021-spring-50-tuiti
 on-refund-for-full-semester-dropped-courses
DTSTART;VALUE=DATE:20210119
DTEND;VALUE=DATE:20210126
END:VEVENT
END:VCALENDAR
