BEGIN:VCALENDAR
VERSION:2.0
PRODID:SchoolNow
CALSCALE:GREGORIAN
BEGIN:VEVENT
UID:3715d73e-1217-11eb-b9dd-0a30c2ef3beb
DTSTAMP:20201019T142728Z
SUMMARY:2021 Spring - MLK Day Holiday.  All Campuses Closed.
URL;VALUE=URI:https://www.ladelta.edu/calendar/2473835/2021-spring-mlk-day-
 holiday-all-campuses-closed
DTSTART;VALUE=DATE:20210118
DTEND;VALUE=DATE:20210119
END:VEVENT
END:VCALENDAR
