BEGIN:VCALENDAR
VERSION:2.0
PRODID:SchoolNow
CALSCALE:GREGORIAN
BEGIN:VEVENT
UID:511e78b6-1217-11eb-8650-0a30c2ef3beb
DTSTAMP:20201019T142811Z
SUMMARY:2021 Spring - Classes resume after MLK Day holiday.
URL;VALUE=URI:https://www.ladelta.edu/calendar/2473836/2021-spring-classes-
 resume-after-mlk-day-holiday
DTSTART;VALUE=DATE:20210119
DTEND;VALUE=DATE:20210120
END:VEVENT
END:VCALENDAR
