BEGIN:VCALENDAR
VERSION:2.0
PRODID:SchoolNow
CALSCALE:GREGORIAN
BEGIN:VEVENT
UID:618d1fea-1217-11eb-8c5e-0a30c2ef3beb
DTSTAMP:20210112T213845Z
SUMMARY:2021 Spring - 25% tuition refund for Full-semester dropped courses
URL;VALUE=URI:https://www.ladelta.edu/calendar/2473837/2021-spring-25-tuiti
 on-refund-for-full-semester-dropped-courses
DTSTART;VALUE=DATE:20210126
DTEND;VALUE=DATE:20210202
END:VEVENT
END:VCALENDAR
