BEGIN:VCALENDAR
VERSION:2.0
PRODID:SchoolNow
CALSCALE:GREGORIAN
BEGIN:VEVENT
UID:442159b6-121d-11eb-8f18-0a30c2ef3beb
DTSTAMP:20201019T151047Z
SUMMARY:2021 Spring  - Final date to withdraw from a 1st half-term class wi
 th a grade of 'W'.
URL;VALUE=URI:https://www.ladelta.edu/calendar/2473865/2021-spring-final-da
 te-to-withdraw-from-a-1st-half-term-class-with-a-grade-of-w
DTSTART;VALUE=DATE:20210224
DTEND;VALUE=DATE:20210225
END:VEVENT
END:VCALENDAR
