BEGIN:VCALENDAR
VERSION:2.0
PRODID:SchoolNow
CALSCALE:GREGORIAN
BEGIN:VEVENT
UID:635651f6-121d-11eb-ab60-0a30c2ef3beb
DTSTAMP:20201019T151139Z
SUMMARY:2021 Spring - Final exams for accelerated courses which end March 8
URL;VALUE=URI:https://www.ladelta.edu/calendar/2473867/2021-spring-final-ex
 ams-for-accelerated-courses-which-end-march-8
DTSTART;VALUE=DATE:20210308
DTEND;VALUE=DATE:20210309
END:VEVENT
END:VCALENDAR
