BEGIN:VCALENDAR
VERSION:2.0
PRODID:SchoolNow
CALSCALE:GREGORIAN
BEGIN:VEVENT
UID:d3a55c06-367e-11eb-87c6-129fd3cb37f7
DTSTAMP:20201204T221950Z
SUMMARY:2021 Spring - Fee Payment Deadline at 2:00 PM then 1st purge for no
 n-payment after 2:00 PM.
URL;VALUE=URI:https://www.ladelta.edu/calendar/2509066/2021-spring-fee-paym
 ent-deadline-at-2-00-pm-then-1st-purge-for-non-payment-after-2-00-pm
DTSTART;VALUE=DATE:20210106
DTEND;VALUE=DATE:20210107
END:VEVENT
END:VCALENDAR
