BEGIN:VCALENDAR
VERSION:2.0
PRODID:SchoolNow
CALSCALE:GREGORIAN
BEGIN:VEVENT
UID:b23708e2-917f-11eb-ae97-0ea7ff5b5f1d
DTSTAMP:20210330T174520Z
SUMMARY:Graduation Application Submission Deadline
URL;VALUE=URI:https://www.ladelta.edu/calendar/2564767/graduation-applicati
 on-submission-deadline
DTSTART;VALUE=DATE:20210419
DTEND;VALUE=DATE:20210420
END:VEVENT
END:VCALENDAR
