BEGIN:VCALENDAR
VERSION:2.0
PRODID:SchoolNow
CALSCALE:GREGORIAN
BEGIN:VEVENT
UID:26bd6a3e-8dc5-11ec-a788-0e5a0ad5a0eb
DTSTAMP:20220214T192333Z
SUMMARY:Summer II Financial Aid Book Credit
URL;VALUE=URI:https://www.ladelta.edu/calendar/3102906/summer-ii-financial-
 aid-book-credit
DTSTART;VALUE=DATE:20220701
DTEND;VALUE=DATE:20220715
END:VEVENT
END:VCALENDAR
