BEGIN:VCALENDAR
VERSION:2.0
PRODID:SchoolNow
CALSCALE:GREGORIAN
BEGIN:VEVENT
UID:b83ec444-8dc5-11ec-be0f-0e5a0ad5a0eb
DTSTAMP:20220215T152425Z
SUMMARY:Summer II Late Registration
URL;VALUE=URI:https://www.ladelta.edu/calendar/3102995/summer-ii-late-regis
 tration
DTSTART;VALUE=DATE:20220701
DTEND;VALUE=DATE:20220707
END:VEVENT
END:VCALENDAR
