BEGIN:VCALENDAR
VERSION:2.0
PRODID:SchoolNow
CALSCALE:GREGORIAN
BEGIN:VEVENT
UID:fb7011a0-8dc5-11ec-9d44-0e5a0ad5a0eb
DTSTAMP:20220215T152515Z
SUMMARY:Summer II Classes Begin
URL;VALUE=URI:https://www.ladelta.edu/calendar/3102999/summer-ii-classes-be
 gin
DTSTART;VALUE=DATE:20220705
DTEND;VALUE=DATE:20220706
END:VEVENT
END:VCALENDAR
